BEGIN:VCALENDAR
VERSION:2.0
PRODID:-//Manavata - ECPv6.8.3//NONSGML v1.0//EN
CALSCALE:GREGORIAN
METHOD:PUBLISH
X-ORIGINAL-URL:https://manavata.org
X-WR-CALDESC:Events for Manavata
REFRESH-INTERVAL;VALUE=DURATION:PT1H
X-Robots-Tag:noindex
X-PUBLISHED-TTL:PT1H
BEGIN:VTIMEZONE
TZID:Asia/Kolkata
BEGIN:STANDARD
TZOFFSETFROM:+0530
TZOFFSETTO:+0530
TZNAME:IST
DTSTART:20230101T000000
END:STANDARD
END:VTIMEZONE
BEGIN:VEVENT
DTSTART;TZID=Asia/Kolkata:20230513T060000
DTEND;TZID=Asia/Kolkata:20230521T000000
DTSTAMP:20260420T175443
CREATED:20230511T070907Z
LAST-MODIFIED:20230512T040717Z
UID:20725-1683957600-1684627200@manavata.org
SUMMARY:3H Summer Camp
DESCRIPTION:[vc_row][vc_column width=”2/3″][vc_column_text]Respected All\, \nManavata conducting 3H Summer Camp \nIt is a wonderful opportunity for children from age 8 to 14 years.  \nObjective:  To help every child for their holistic development by utilizing their summer holidays productively. \nBenefits: Concentration\, focus on right learning\, Self-discipline\, right knowledge\, good health\, becoming more responsible and self -reliant\, identifying hidden talents and developing with best techniques. these are very important needs for every child to shape up their bright future. \nWhy this camp? Unfortunately these days children are missing right path\, losing their health\, focus and becoming more selfish and irresponsible. It is all our responsibility to do help them to shape up their future and make the real humane with  excellence.  So this program has been organized by Manavata Academy of Human Excellence (MAHE.manavata.org) as part of its voluntary mission. \n  \nTime: 8am to 11am from 13th May to 21st may \nContribution: 300/- \n  \nTopics: \n\nKarnatic Music\nYoga & guided Meditation\nCommunication Skills\nTime Management\nVedic Maths\nBhagavad Gita\nHealth activities: Healthy food competition cooking\,\nnutrition awareness\nEnvironment: paper bags making\, sprouting\, fun science\nStorytelling\, debates\, quiz\, culture and creativity \n\nTeachers / Guest Speakers: Srinivas ji\, Venkat ji\, Hari ji\, Prasad ji\, Manasa ji\, Sakuntala ji  \nThe benefits of Meditations are: \n1)        Increase immunity and helps fight diseases. \n2)        Relieving  from Body pains\, Heart issues\, Lowers high blood pressure \n3)        Get rid of negative thoughts & depression \n4)        Improving Self-confidence & Memory Power \n5)        Reduces ageing. \n6)        Improve metabolism and helps you lose weight \n7)        Increases Emotional Stability & Creativity \n8)        Increase the happiness​. \nVenue: Online \nRegister: online here or call helpline 9966673111 \n\nNote: Interested people can register / nominate their children asap as there are limited seats\, which served only to early registrations\n\n[/vc_column_text][/vc_column][vc_column width=”1/3″][vc_single_image image=”20727″ img_size=”full” onclick=”link_image”][vc_column_text][/vc_column_text][vc_custom_heading text=”Register Now”][vc_single_image image=”20741″ img_size=”medium” onclick=”link_image”][/vc_column][/vc_row]
URL:https://manavata.org/events/3h-summer-camp/
LOCATION:Online\, India
CATEGORIES:3H Missions,Education
ATTACH;FMTTYPE=image/jpeg:https://manavata.org/wp-content/uploads/2023/05/SummerCamp2023_MAHE_India_flier2-scaled.jpg
END:VEVENT
END:VCALENDAR