BEGIN:VCALENDAR
VERSION:2.0
PRODID:-//Manavata - ECPv6.8.3//NONSGML v1.0//EN
CALSCALE:GREGORIAN
METHOD:PUBLISH
X-ORIGINAL-URL:https://manavata.org
X-WR-CALDESC:Events for Manavata
REFRESH-INTERVAL;VALUE=DURATION:PT1H
X-Robots-Tag:noindex
X-PUBLISHED-TTL:PT1H
BEGIN:VTIMEZONE
TZID:America/Los_Angeles
BEGIN:DAYLIGHT
TZOFFSETFROM:-0800
TZOFFSETTO:-0700
TZNAME:PDT
DTSTART:20250309T100000
END:DAYLIGHT
BEGIN:STANDARD
TZOFFSETFROM:-0700
TZOFFSETTO:-0800
TZNAME:PST
DTSTART:20251102T090000
END:STANDARD
TZID:Asia/Kolkata
BEGIN:STANDARD
TZOFFSETFROM:+0530
TZOFFSETTO:+0530
TZNAME:IST
DTSTART:20250101T000000
END:STANDARD
END:VTIMEZONE
BEGIN:VEVENT
DTSTART;TZID=America/Los_Angeles:20250605T070000
DTEND;TZID=America/Los_Angeles:20250705T200000
DTSTAMP:20260419T173514
CREATED:20250612T061701Z
LAST-MODIFIED:20250612T061718Z
UID:27619-1749106800-1751745600@manavata.org
SUMMARY:KIDS YOGA -US
DESCRIPTION:
URL:https://manavata.org/events/kids-yoga-us/
ATTACH;FMTTYPE=image/jpeg:https://manavata.org/wp-content/uploads/2025/06/WhatsApp-Image-2025-06-10-at-11.28.02_d87a8e1f-1.jpg
END:VEVENT
BEGIN:VEVENT
DTSTART;TZID=Asia/Kolkata:20250710T080000
DTEND;TZID=Asia/Kolkata:20250710T170000
DTSTAMP:20260419T173514
CREATED:20250709T034433Z
LAST-MODIFIED:20250709T035642Z
UID:27706-1752134400-1752166800@manavata.org
SUMMARY:Guru Purnima Celebrations at Manavata Ashram\, Lolla
DESCRIPTION:Thursday\, 10th July 2025\nVenue: Manavata Ashram\, Lolla \n\nGuru Purnima is a sacred occasion to express our deepest gratitude to the Gurus—the guiding lights who illuminate our path to knowledge\, discipline\, and inner awakening. \nManavata Ashram invites you and your family to join us in a day filled with spiritual upliftment\, selfless service\, and celebration of wisdom. \n\n️ A Day of Wisdom\, Gratitude & Seva\nLet us come together to honor the timeless Guru–Shishya tradition and deepen our collective journey of transformation. \n\nMorning Schedule\n\n6:00 AM – 7:00 AM: Yoga Sadhana & Dhyanam\nBegin your day with inner stillness and strength through guided yoga and meditation.\n7:00 AM: Guru Puja & Vishnu Sahasranamam\nOffer reverence through sacred chants and traditional worship.\n8:00 AM: Aksharabhyasam\nA special Vedic ceremony to initiate young minds into learning.\n9:00 AM onwards: Prasadam & Seva Activities\n\nFree Medical and Educational Services\nTree Plantation Drive\nServe and grow in the spirit of selfless giving.\n\n\n\n\nEvening Schedule\n\n6:00 PM: Lalitha Sahasranamam\nA divine recitation invoking the grace of the Divine Mother.\n7:00 PM: Meditation & Bhagavad Gita Discourse\nBy Sri Srinivasa Alluri\, founder of Manavata\nSharing timeless wisdom for modern life.\n\n\nAll Are Welcome!\nCelebrate this sacred day with devotion\, discipline\, and a deep commitment to the path of knowledge and service. \n\nwww.manavata.org\nContact: +91 9966673111
URL:https://manavata.org/events/gurupornima-celebtations-at-lolla/
ATTACH;FMTTYPE=image/jpeg:https://manavata.org/wp-content/uploads/2025/07/Blue-and-Yellow-Simple-Guru-Purnima-Greetings-Instagram-Post.jpg
END:VEVENT
END:VCALENDAR